BEGIN:VCALENDAR
VERSION:2.0
BEGIN:VEVENT
URL:https://tickets.northcotesocialclub.com/outlet/event/c82668c7-fe62-49d4-851f-b71f5b6d9004
DTSTART:20260926T103000Z
DTEND:20260926T103000Z
SUMMARY:Disgraceland
DESCRIPTION:Event details: https://tickets.northcotesocialclub.com/outlet/event/c82668c7-fe62-49d4-851f-b71f5b6d9004
LOCATION:Northcote Social Club (Northcote, VIC)
END:VEVENT
END:VCALENDAR