BEGIN:VCALENDAR
VERSION:2.0
BEGIN:VEVENT
URL:https://tickets.northcotesocialclub.com/outlet/event/47905f13-5c98-484d-9cf1-c9bada6e4623
DTSTART:20260508T100000Z
DTEND:20260508T100000Z
SUMMARY:FACS (USA)
DESCRIPTION:Event details: https://tickets.northcotesocialclub.com/outlet/event/47905f13-5c98-484d-9cf1-c9bada6e4623
LOCATION:Northcote Social Club (Northcote, VIC)
END:VEVENT
END:VCALENDAR