BEGIN:VCALENDAR
VERSION:2.0
BEGIN:VEVENT
URL:https://tickets.northcotesocialclub.com/outlet/event/035dbc78-ff2f-489b-b505-ef2219af5c95
DTSTART:20260515T100000Z
DTEND:20260515T100000Z
SUMMARY:Chris Cavill
DESCRIPTION:Event details: https://tickets.northcotesocialclub.com/outlet/event/035dbc78-ff2f-489b-b505-ef2219af5c95
LOCATION:Northcote Social Club (Northcote, VIC)
END:VEVENT
END:VCALENDAR